Workbook
Name Advances: '[1]Summary Invoice'!#REF!
Name Advances: 'Summary Invoice'!#REF!
Name ColumnTitle1: [1]!ExpenseData[[#Headers],[Invoice Number (Proof of Purchase)]]
Name ColumnTitle1: ExpenseData[[#Headers],[Invoice Number (Proof of Purchase)]]
Name Subtotal: '[1]Summary Invoice'!#REF!
Name Subtotal: 'Summary Invoice'!#REF!
Name valHighlight: IFERROR(IF(#REF!="Yes", TRUE, FALSE),FALSE)

Sheet Summary Invoice
C1: Summary Invoice | AM1: BEAD vX.X.26
C3: Company Name: | G3: Grant ID #: | I3: Award Cost Share % (enter as decimal): | J3: 0 | L3: Grant Agreement Execution Date
AM4: =IF(COUNTA(ExpenseData[Invoice Number (Proof of Purchase)])=0,"",MAX(ExpenseData[Invoice Number (Proof of Purchase)]))
C5: Grant Award $$: | D5: 0 | E5: Cumulative Maximum Claim (calculated) | F5: =MIN(D5, H5) -> 0 | G5: Cumulative Adjusted Claim Total (calculated): | H5: =J5*J3 -> 0 | I5: Cumulative Claimed Expense Total (calculated): | J5: =SUM(J9:J501) -> 0 | L5: Project Completion Date
J6: Refer to the Draw Summary tab for an Individual Draw Summary >>
C7: Invoice Data | K7: DC Code Itemization | AI7: Check Your PDFs
B8: # | C8: Draw Number | D8: Invoice Number (Proof of Purchase) | E8: Vendor Name | F8: Date of Purchase | G8: Check # (Proof of Payment) | H8: Invoice Total | I8: NOFA Total Project Cost (Claim Amount) | J8: Allowable | K8: DC1 | L8: DC2 | M8: DC18 | N8: DC3 | O8: DC5 | P8: DC6 | Q8: DC7 | R8: DC8 | S8: DC9 | T8: DC10 | U8: DC19 | V8: DC13 | W8: DC14 | X8: DC15 | Y8: DC16 | Z8: DC20 | AA8: DC21 | AB8: DC22 | AC8: DC23 | AD8: DC24 | AE8: DC25 | AF8: DC17 | AG8: Additional Clarification (Required for DC17, "Other") | AH8: DC Total Check | AI8: Subject to BABA? (Not Applicable for Labor & Services) | AJ8: PoPur Page # | AK8: PoPay Page # | AL8: Contract PoPur Page # | AM8: DOM Comments
B9: 1 | I9: =SUM(ExpenseData[[#This Row],[DC1]:[DC17]]) -> 0 | J9: =ExpenseData[[#This Row],[NOFA Total Project Cost (Claim Amount)]] -> 0 | AH9: =SUM(ExpenseData[[#This Row],[DC1]:[DC17]])-ExpenseData[[#This Row],[NOFA Total Project Cost (Claim Amount)]] -> 0 | AN9: .
B10: 2 | I10: =SUM(ExpenseData[[#This Row],[DC1]:[DC17]]) -> 0 | J10: =ExpenseData[[#This Row],[NOFA Total Project Cost (Claim Amount)]] -> 0 | AH10: =SUM(ExpenseData[[#This Row],[DC1]:[DC17]])-ExpenseData[[#This Row],[NOFA Total Project Cost (Claim Amount)]] -> 0
B11: 3 | I11: =SUM(ExpenseData[[#This Row],[DC1]:[DC17]]) -> 0 | J11: =ExpenseData[[#This Row],[NOFA Total Project Cost (Claim Amount)]] -> 0 | AH11: =SUM(ExpenseData[[#This Row],[DC1]:[DC17]])-ExpenseData[[#This Row],[NOFA Total Project Cost (Claim Amount)]] -> 0
B12: 4 | I12: =SUM(ExpenseData[[#This Row],[DC1]:[DC17]]) -> 0 | J12: =ExpenseData[[#This Row],[NOFA Total Project Cost (Claim Amount)]] -> 0 | AH12: =SUM(ExpenseData[[#This Row],[DC1]:[DC17]])-ExpenseData[[#This Row],[NOFA Total Project Cost (Claim Amount)]] -> 0
B13: 5 | I13: =SUM(ExpenseData[[#This Row],[DC1]:[DC17]]) -> 0 | J13: =ExpenseData[[#This Row],[NOFA Total Project Cost (Claim Amount)]] -> 0 | AH13: =SUM(ExpenseData[[#This Row],[DC1]:[DC17]])-ExpenseData[[#This Row],[NOFA Total Project Cost (Claim Amount)]] -> 0
B14: 6 | I14: =SUM(ExpenseData[[#This Row],[DC1]:[DC17]]) -> 0 | J14: =ExpenseData[[#This Row],[NOFA Total Project Cost (Claim Amount)]] -> 0 | AH14: =SUM(ExpenseData[[#This Row],[DC1]:[DC17]])-ExpenseData[[#This Row],[NOFA Total Project Cost (Claim Amount)]] -> 0
B15: 7 | I15: =SUM(ExpenseData[[#This Row],[DC1]:[DC17]]) -> 0 | J15: =ExpenseData[[#This Row],[NOFA Total Project Cost (Claim Amount)]] -> 0 | AH15: =SUM(ExpenseData[[#This Row],[DC1]:[DC17]])-ExpenseData[[#This Row],[NOFA Total Project Cost (Claim Amount)]] -> 0
B16: 8 | I16: =SUM(ExpenseData[[#This Row],[DC1]:[DC17]]) -> 0 | J16: =ExpenseData[[#This Row],[NOFA Total Project Cost (Claim Amount)]] -> 0 | AH16: =SUM(ExpenseData[[#This Row],[DC1]:[DC17]])-ExpenseData[[#This Row],[NOFA Total Project Cost (Claim Amount)]] -> 0
B17: 9 | I17: =SUM(ExpenseData[[#This Row],[DC1]:[DC17]]) -> 0 | J17: =ExpenseData[[#This Row],[NOFA Total Project Cost (Claim Amount)]] -> 0 | AH17: =SUM(ExpenseData[[#This Row],[DC1]:[DC17]])-ExpenseData[[#This Row],[NOFA Total Project Cost (Claim Amount)]] -> 0
B18: 10 | I18: =SUM(ExpenseData[[#This Row],[DC1]:[DC17]]) -> 0 | J18: =ExpenseData[[#This Row],[NOFA Total Project Cost (Claim Amount)]] -> 0 | AH18: =SUM(ExpenseData[[#This Row],[DC1]:[DC17]])-ExpenseData[[#This Row],[NOFA Total Project Cost (Claim Amount)]] -> 0
B19: 11 | I19: =SUM(ExpenseData[[#This Row],[DC1]:[DC17]]) -> 0 | J19: =ExpenseData[[#This Row],[NOFA Total Project Cost (Claim Amount)]] -> 0 | AH19: =SUM(ExpenseData[[#This Row],[DC1]:[DC17]])-ExpenseData[[#This Row],[NOFA Total Project Cost (Claim Amount)]] -> 0
B20: 12 | I20: =SUM(ExpenseData[[#This Row],[DC1]:[DC17]]) -> 0 | J20: =ExpenseData[[#This Row],[NOFA Total Project Cost (Claim Amount)]] -> 0 | AH20: =SUM(ExpenseData[[#This Row],[DC1]:[DC17]])-ExpenseData[[#This Row],[NOFA Total Project Cost (Claim Amount)]] -> 0
B21: 13 | I21: =SUM(ExpenseData[[#This Row],[DC1]:[DC17]]) -> 0 | J21: =ExpenseData[[#This Row],[NOFA Total Project Cost (Claim Amount)]] -> 0 | AH21: =SUM(ExpenseData[[#This Row],[DC1]:[DC17]])-ExpenseData[[#This Row],[NOFA Total Project Cost (Claim Amount)]] -> 0
... B501: 493 | I501: =SUM(ExpenseData[[#This Row],[DC1]:[DC17]]) -> 0 | J501: =ExpenseData[[#This Row],[NOFA Total Project Cost (Claim Amount)]] -> 0 | AH501: =SUM(ExpenseData[[#This Row],[DC1]:[DC17]])-ExpenseData[[#This Row],[NOFA Total Project Cost (Claim Amount)]] -> 0

Sheet Internal Time Reporting
C1: Internal Time Reporting
L2: Requested | M2: Allowable
C3: Company Name: | D3: =IF('Summary Invoice'!$D$3<>"",'Summary Invoice'!$D$3,"") | G3: Grant ID #: | H3: =IF('Summary Invoice'!$H$3<>"",'Summary Invoice'!$H$3,"") | K3: Internal Time Reporting Total: | L3: =SUM(L7:L506) -> 0 | M3: =SUM(M7:M506) -> 0
B5: Payroll Documentation Data | N5: DC Code Itemization | AL5: Check Your PDFS
B6: # | C6: Draw Number | D6: Pay Date | E6: Pay Period | F6: Employee ID / Employee Name | G6: Rate of Pay (Hourly) | H6: Regular Hours Worked ON Project | I6: Overtime Hours Worked ON Project | J6: Hours worked OFF Project | K6: Total Hours Worked | L6: Total Request Amount (Autofill) | M6: Allowable | N6: DC1 | O6: DC2 | P6: DC18 | Q6: DC3 | R6: DC5 | S6: DC6 | T6: DC7 | U6: DC8 | V6: DC9 | W6: DC10 | X6: DC19 | Y6: DC13 | Z6: DC14 | AA6: DC15 | AB6: DC16 | AC6: DC20 | AD6: DC21 | AE6: DC22 | AF6: DC23 | AG6: DC24 | AH6: DC25 | AI6: DC17 | AJ6: Additional Clarification (Required for DC17, "Other") | AK6: DC Total Check | AL6: PDF Page Number | AM6: DOM Comments
B7: 1 | K7: =SUM(ExpenseData35[[#This Row],[Regular Hours Worked ON Project]:[Hours worked OFF Project]]) -> 0 | L7: =ROUND((G7*H7)+(G7*1.5*I7),2) -> 0 | M7: =ExpenseData35[[#This Row],[Total Request Amount (Autofill)]] -> 0 | AK7: =SUM(ExpenseData35[[#This Row],[DC1]:[Additional Clarification (Required for DC17, "Other") ]])-ExpenseData35[[#This Row],[Total Request Amount (Autofill)]] -> 0
B8: 2 | K8: =SUM(ExpenseData35[[#This Row],[Regular Hours Worked ON Project]:[Hours worked OFF Project]]) -> 0 | L8: =ROUND((G8*H8)+(G8*1.5*I8),2) -> 0 | M8: =ExpenseData35[[#This Row],[Total Request Amount (Autofill)]] -> 0 | AK8: =SUM(ExpenseData35[[#This Row],[DC1]:[Additional Clarification (Required for DC17, "Other") ]])-ExpenseData35[[#This Row],[Total Request Amount (Autofill)]] -> 0
B9: 3 | K9: =SUM(ExpenseData35[[#This Row],[Regular Hours Worked ON Project]:[Hours worked OFF Project]]) -> 0 | L9: =ROUND((G9*H9)+(G9*1.5*I9),2) -> 0 | M9: =ExpenseData35[[#This Row],[Total Request Amount (Autofill)]] -> 0 | AK9: =SUM(ExpenseData35[[#This Row],[DC1]:[Additional Clarification (Required for DC17, "Other") ]])-ExpenseData35[[#This Row],[Total Request Amount (Autofill)]] -> 0
B10: 4 | K10: =SUM(ExpenseData35[[#This Row],[Regular Hours Worked ON Project]:[Hours worked OFF Project]]) -> 0 | L10: =ROUND((G10*H10)+(G10*1.5*I10),2) -> 0 | M10: =ExpenseData35[[#This Row],[Total Request Amount (Autofill)]] -> 0 | AK10: =SUM(ExpenseData35[[#This Row],[DC1]:[Additional Clarification (Required for DC17, "Other") ]])-ExpenseData35[[#This Row],[Total Request Amount (Autofill)]] -> 0
B11: 5 | K11: =SUM(ExpenseData35[[#This Row],[Regular Hours Worked ON Project]:[Hours worked OFF Project]]) -> 0 | L11: =ROUND((G11*H11)+(G11*1.5*I11),2) -> 0 | M11: =ExpenseData35[[#This Row],[Total Request Amount (Autofill)]] -> 0 | AK11: =SUM(ExpenseData35[[#This Row],[DC1]:[Additional Clarification (Required for DC17, "Other") ]])-ExpenseData35[[#This Row],[Total Request Amount (Autofill)]] -> 0
B12: 6 | K12: =SUM(ExpenseData35[[#This Row],[Regular Hours Worked ON Project]:[Hours worked OFF Project]]) -> 0 | L12: =ROUND((G12*H12)+(G12*1.5*I12),2) -> 0 | M12: =ExpenseData35[[#This Row],[Total Request Amount (Autofill)]] -> 0 | AK12: =SUM(ExpenseData35[[#This Row],[DC1]:[Additional Clarification (Required for DC17, "Other") ]])-ExpenseData35[[#This Row],[Total Request Amount (Autofill)]] -> 0
B13: 7 | K13: =SUM(ExpenseData35[[#This Row],[Regular Hours Worked ON Project]:[Hours worked OFF Project]]) -> 0 | L13: =ROUND((G13*H13)+(G13*1.5*I13),2) -> 0 | M13: =ExpenseData35[[#This Row],[Total Request Amount (Autofill)]] -> 0 | AK13: =SUM(ExpenseData35[[#This Row],[DC1]:[Additional Clarification (Required for DC17, "Other") ]])-ExpenseData35[[#This Row],[Total Request Amount (Autofill)]] -> 0
B14: 8 | K14: =SUM(ExpenseData35[[#This Row],[Regular Hours Worked ON Project]:[Hours worked OFF Project]]) -> 0 | L14: =ROUND((G14*H14)+(G14*1.5*I14),2) -> 0 | M14: =ExpenseData35[[#This Row],[Total Request Amount (Autofill)]] -> 0 | AK14: =SUM(ExpenseData35[[#This Row],[DC1]:[Additional Clarification (Required for DC17, "Other") ]])-ExpenseData35[[#This Row],[Total Request Amount (Autofill)]] -> 0
B15: 9 | K15: =SUM(ExpenseData35[[#This Row],[Regular Hours Worked ON Project]:[Hours worked OFF Project]]) -> 0 | L15: =ROUND((G15*H15)+(G15*1.5*I15),2) -> 0 | M15: =ExpenseData35[[#This Row],[Total Request Amount (Autofill)]] -> 0 | AK15: =SUM(ExpenseData35[[#This Row],[DC1]:[Additional Clarification (Required for DC17, "Other") ]])-ExpenseData35[[#This Row],[Total Request Amount (Autofill)]] -> 0
B16: 10 | K16: =SUM(ExpenseData35[[#This Row],[Regular Hours Worked ON Project]:[Hours worked OFF Project]]) -> 0 | L16: =ROUND((G16*H16)+(G16*1.5*I16),2) -> 0 | M16: =ExpenseData35[[#This Row],[Total Request Amount (Autofill)]] -> 0 | AK16: =SUM(ExpenseData35[[#This Row],[DC1]:[Additional Clarification (Required for DC17, "Other") ]])-ExpenseData35[[#This Row],[Total Request Amount (Autofill)]] -> 0
B17: 11 | K17: =SUM(ExpenseData35[[#This Row],[Regular Hours Worked ON Project]:[Hours worked OFF Project]]) -> 0 | L17: =ROUND((G17*H17)+(G17*1.5*I17),2) -> 0 | M17: =ExpenseData35[[#This Row],[Total Request Amount (Autofill)]] -> 0 | AK17: =SUM(ExpenseData35[[#This Row],[DC1]:[Additional Clarification (Required for DC17, "Other") ]])-ExpenseData35[[#This Row],[Total Request Amount (Autofill)]] -> 0
B18: 12 | K18: =SUM(ExpenseData35[[#This Row],[Regular Hours Worked ON Project]:[Hours worked OFF Project]]) -> 0 | L18: =ROUND((G18*H18)+(G18*1.5*I18),2) -> 0 | M18: =ExpenseData35[[#This Row],[Total Request Amount (Autofill)]] -> 0 | AK18: =SUM(ExpenseData35[[#This Row],[DC1]:[Additional Clarification (Required for DC17, "Other") ]])-ExpenseData35[[#This Row],[Total Request Amount (Autofill)]] -> 0
... B500: 494 | K500: =SUM(ExpenseData35[[#This Row],[Regular Hours Worked ON Project]:[Hours worked OFF Project]]) -> 0 | L500: =ROUND((G500*H500)+(G500*1.5*I500),2) -> 0 | M500: =ExpenseData35[[#This Row],[Total Request Amount (Autofill)]] -> 0 | AK500: =SUM(ExpenseData35[[#This Row],[DC1]:[Additional Clarification (Required for DC17, "Other") ]])-ExpenseData35[[#This Row],[Total Request Amount (Autofill)]] -> 0
B501: 495 | K501: =SUM(ExpenseData35[[#This Row],[Regular Hours Worked ON Project]:[Hours worked OFF Project]]) -> 0 | L501: =ROUND((G501*H501)+(G501*1.5*I501),2) -> 0 | M501: =ExpenseData35[[#This Row],[Total Request Amount (Autofill)]] -> 0 | AK501: =SUM(ExpenseData35[[#This Row],[DC1]:[Additional Clarification (Required for DC17, "Other") ]])-ExpenseData35[[#This Row],[Total Request Amount (Autofill)]] -> 0
B502: 496 | K502: =SUM(ExpenseData35[[#This Row],[Regular Hours Worked ON Project]:[Hours worked OFF Project]]) -> 0 | L502: =ROUND((G502*H502)+(G502*1.5*I502),2) -> 0 | M502: =ExpenseData35[[#This Row],[Total Request Amount (Autofill)]] -> 0 | AK502: =SUM(ExpenseData35[[#This Row],[DC1]:[Additional Clarification (Required for DC17, "Other") ]])-ExpenseData35[[#This Row],[Total Request Amount (Autofill)]] -> 0
B503: 497 | K503: =SUM(ExpenseData35[[#This Row],[Regular Hours Worked ON Project]:[Hours worked OFF Project]]) -> 0 | L503: =ROUND((G503*H503)+(G503*1.5*I503),2) -> 0 | M503: =ExpenseData35[[#This Row],[Total Request Amount (Autofill)]] -> 0 | AK503: =SUM(ExpenseData35[[#This Row],[DC1]:[Additional Clarification (Required for DC17, "Other") ]])-ExpenseData35[[#This Row],[Total Request Amount (Autofill)]] -> 0
B504: 498 | K504: =SUM(ExpenseData35[[#This Row],[Regular Hours Worked ON Project]:[Hours worked OFF Project]]) -> 0 | L504: =ROUND((G504*H504)+(G504*1.5*I504),2) -> 0 | M504: =ExpenseData35[[#This Row],[Total Request Amount (Autofill)]] -> 0 | AK504: =SUM(ExpenseData35[[#This Row],[DC1]:[Additional Clarification (Required for DC17, "Other") ]])-ExpenseData35[[#This Row],[Total Request Amount (Autofill)]] -> 0
B505: 499 | K505: =SUM(ExpenseData35[[#This Row],[Regular Hours Worked ON Project]:[Hours worked OFF Project]]) -> 0 | L505: =ROUND((G505*H505)+(G505*1.5*I505),2) -> 0 | M505: =ExpenseData35[[#This Row],[Total Request Amount (Autofill)]] -> 0 | AK505: =SUM(ExpenseData35[[#This Row],[DC1]:[Additional Clarification (Required for DC17, "Other") ]])-ExpenseData35[[#This Row],[Total Request Amount (Autofill)]] -> 0
B506: 500 | K506: =SUM(ExpenseData35[[#This Row],[Regular Hours Worked ON Project]:[Hours worked OFF Project]]) -> 0 | L506: =ROUND((G506*H506)+(G506*1.5*I506),2) -> 0 | M506: =ExpenseData35[[#This Row],[Total Request Amount (Autofill)]] -> 0 | AK506: =SUM(ExpenseData35[[#This Row],[DC1]:[Additional Clarification (Required for DC17, "Other") ]])-ExpenseData35[[#This Row],[Total Request Amount (Autofill)]] -> 0

Sheet Draw Summary
C1: Draw Summary
C3: Grant Award $$ | D3: ='Summary Invoice'!D5 -> 0 | E3: (fr SI tab)
C4: =LEFT('Summary Invoice'!I3,18) -> Award Cost Share % | D4: ='Summary Invoice'!J3 -> 0 | E4: (fr SI tab)
C5: =LEFT('Summary Invoice'!E5,25) -> Cumulative Maximum Claim | D5: ='Summary Invoice'!J5 -> 0 | E5: (fr SI tab)
C7: Draw Summary of Project Spend
C8: Draw # | D8: Draw % | E8: Draw Minimum | F8: NOFA Total Project Cost | G8: Claim Amount
C9: Draw #1 | D9: 0.1 | E9: =MIN(D9*$D$3,$D$5) -> 0 | F9: =Z45 -> 0 | G9: =MIN(F9*$D$4,E9) -> 0
C10: Draw #2 | D10: 0.25 | E10: =MIN(D10*$D$3,$D$5) -> 0 | F10: =Z46 -> 0 | G10: =MIN(F10*$D$4,E10) -> 0
C11: Draw #3 | D11: 0.1 | E11: =MIN(D11*$D$3,$D$5) -> 0 | F11: =Z47 -> 0 | G11: =MIN(F11*$D$4,E11) -> 0
C12: Draw #4 | D12: 0.25 | E12: =MIN(D12*$D$3,$D$5) -> 0 | F12: =Z48 -> 0 | G12: =MIN(F12*$D$4,E12) -> 0
C13: Draw #5 | D13: 0.1 | E13: =MIN(D13*$D$3,$D$5) -> 0 | F13: =Z49 -> 0 | G13: =MIN(F13*$D$4,E13) -> 0
C14: Draw #6 | D14: 0.2 | E14: =MIN(D14*$D$3,$D$5) -> 0 | F14: =Z50 -> 0 | G14: =MIN(F14*$D$4,E14) -> 0
C15: Total | D15: =SUM(D9:D14) -> 1 | E15: =SUM(E9:E14) -> 0 | F15: =SUM(F9:F14) -> 0 | G15: =SUM(G9:G14) -> 0
F16: =F15-Z51 -> 0 | G16: =G15-Z52 -> 0
C18: Summary Invoice tab
C19: Category | D19: Conduit | E19: Fiber | F19: Customer Drops | G19: Engineering | H19: Construction Management | I19: Tower | J19: Antenna/Radio | K19: Boring | L19: Trenching | M19: Knifing | N19: Splicing | O19: Switching Equipment | P19: Routing Equipment | Q19: Optical Equipment | R19: Customer Premise Equipment | S19: Pedestals, Handholes, Cabinets, etc | T19: Utility Poles, Pole Attachments | U19: Satellite Deployment | V19: Satellite Build Cost | W19: Terrestrial Aggregation | X19: NEPA/SHPO/Cybersecurity/Other BEAD Compliance | Y19: Other | Z19: Total Draw
C20: Code | D20: DC1 | E20: DC2 | F20: DC18 | G20: DC3 | H20: DC5 | I20: DC6 | J20: DC7 | K20: DC8 | L20: DC9 | M20: DC10 | N20: DC19 | O20: DC13 | P20: DC14 | Q20: DC15 | R20: DC16 | S20: DC20 | T20: DC21 | U20: DC22 | V20: DC23 | W20: DC24 | X20: DC25 | Y20: DC17
C21: Draw #1 | D21: =SUMIF('Summary Invoice'!$C:$C,'Draw Summary'!$C21,'Summary Invoice'!K:K) -> 0 | E21: =SUMIF('Summary Invoice'!$C:$C,'Draw Summary'!$C21,'Summary Invoice'!L:L) -> 0 | F21: =SUMIF('Summary Invoice'!$C:$C,'Draw Summary'!$C21,'Summary Invoice'!M:M) -> 0 | G21: =SUMIF('Summary Invoice'!$C:$C,'Draw Summary'!$C21,'Summary Invoice'!N:N) -> 0 | H21: =SUMIF('Summary Invoice'!$C:$C,'Draw Summary'!$C21,'Summary Invoice'!O:O) -> 0 | I21: =SUMIF('Summary Invoice'!$C:$C,'Draw Summary'!$C21,'Summary Invoice'!P:P) -> 0 | J21: =SUMIF('Summary Invoice'!$C:$C,'Draw Summary'!$C21,'Summary Invoice'!Q:Q) -> 0 | K21: =SUMIF('Summary Invoice'!$C:$C,'Draw Summary'!$C21,'Summary Invoice'!R:R) -> 0 | L21: =SUMIF('Summary Invoice'!$C:$C,'Draw Summary'!$C21,'Summary Invoice'!S:S) -> 0 | M21: =SUMIF('Summary Invoice'!$C:$C,'Draw Summary'!$C21,'Summary Invoice'!T:T) -> 0 | N21: =SUMIF('Summary Invoice'!$C:$C,'Draw Summary'!$C21,'Summary Invoice'!U:U) -> 0 | O21: =SUMIF('Summary Invoice'!$C:$C,'Draw Summary'!$C21,'Summary Invoice'!V:V) -> 0 | P21: =SUMIF('Summary Invoice'!$C:$C,'Draw Summary'!$C21,'Summary Invoice'!W:W) -> 0 | Q21: =SUMIF('Summary Invoice'!$C:$C,'Draw Summary'!$C21,'Summary Invoice'!X:X) -> 0 | R21: =SUMIF('Summary Invoice'!$C:$C,'Draw Summary'!$C21,'Summary Invoice'!Y:Y) -> 0 | S21: =SUMIF('Summary Invoice'!$C:$C,'Draw Summary'!$C21,'Summary Invoice'!Z:Z) -> 0 | T21: =SUMIF('Summary Invoice'!$C:$C,'Draw Summary'!$C21,'Summary Invoice'!AA:AA) -> 0 | U21: =SUMIF('Summary Invoice'!$C:$C,'Draw Summary'!$C21,'Summary Invoice'!AB:AB) -> 0 | V21: =SUMIF('Summary Invoice'!$C:$C,'Draw Summary'!$C21,'Summary Invoice'!AC:AC) -> 0 | W21: =SUMIF('Summary Invoice'!$C:$C,'Draw Summary'!$C21,'Summary Invoice'!AD:AD) -> 0 | X21: =SUMIF('Summary Invoice'!$C:$C,'Draw Summary'!$C21,'Summary Invoice'!AE:AE) -> 0 | Y21: =SUMIF('Summary Invoice'!$C:$C,'Draw Summary'!$C21,'Summary Invoice'!AF:AF) -> 0 | Z21: =SUM(D21:Y21) -> 0
C22: Draw #2 | D22: =SUMIF('Summary Invoice'!$C:$C,'Draw Summary'!$C22,'Summary Invoice'!K:K) -> 0 | E22: =SUMIF('Summary Invoice'!$C:$C,'Draw Summary'!$C22,'Summary Invoice'!L:L) -> 0 | F22: =SUMIF('Summary Invoice'!$C:$C,'Draw Summary'!$C22,'Summary Invoice'!M:M) -> 0 | G22: =SUMIF('Summary Invoice'!$C:$C,'Draw Summary'!$C22,'Summary Invoice'!N:N) -> 0 | H22: =SUMIF('Summary Invoice'!$C:$C,'Draw Summary'!$C22,'Summary Invoice'!O:O) -> 0 | I22: =SUMIF('Summary Invoice'!$C:$C,'Draw Summary'!$C22,'Summary Invoice'!P:P) -> 0 | J22: =SUMIF('Summary Invoice'!$C:$C,'Draw Summary'!$C22,'Summary Invoice'!Q:Q) -> 0 | K22: =SUMIF('Summary Invoice'!$C:$C,'Draw Summary'!$C22,'Summary Invoice'!R:R) -> 0 | L22: =SUMIF('Summary Invoice'!$C:$C,'Draw Summary'!$C22,'Summary Invoice'!S:S) -> 0 | M22: =SUMIF('Summary Invoice'!$C:$C,'Draw Summary'!$C22,'Summary Invoice'!T:T) -> 0 | N22: =SUMIF('Summary Invoice'!$C:$C,'Draw Summary'!$C22,'Summary Invoice'!U:U) -> 0 | O22: =SUMIF('Summary Invoice'!$C:$C,'Draw Summary'!$C22,'Summary Invoice'!V:V) -> 0 | P22: =SUMIF('Summary Invoice'!$C:$C,'Draw Summary'!$C22,'Summary Invoice'!W:W) -> 0 | Q22: =SUMIF('Summary Invoice'!$C:$C,'Draw Summary'!$C22,'Summary Invoice'!X:X) -> 0 | R22: =SUMIF('Summary Invoice'!$C:$C,'Draw Summary'!$C22,'Summary Invoice'!Y:Y) -> 0 | S22: =SUMIF('Summary Invoice'!$C:$C,'Draw Summary'!$C22,'Summary Invoice'!Z:Z) -> 0 | T22: =SUMIF('Summary Invoice'!$C:$C,'Draw Summary'!$C22,'Summary Invoice'!AA:AA) -> 0 | U22: =SUMIF('Summary Invoice'!$C:$C,'Draw Summary'!$C22,'Summary Invoice'!AB:AB) -> 0 | V22: =SUMIF('Summary Invoice'!$C:$C,'Draw Summary'!$C22,'Summary Invoice'!AC:AC) -> 0 | W22: =SUMIF('Summary Invoice'!$C:$C,'Draw Summary'!$C22,'Summary Invoice'!AD:AD) -> 0 | X22: =SUMIF('Summary Invoice'!$C:$C,'Draw Summary'!$C22,'Summary Invoice'!AE:AE) -> 0 | Y22: =SUMIF('Summary Invoice'!$C:$C,'Draw Summary'!$C22,'Summary Invoice'!AF:AF) -> 0 | Z22: =SUM(D22:Y22) -> 0
C23: Draw #3 | D23: =SUMIF('Summary Invoice'!$C:$C,'Draw Summary'!$C23,'Summary Invoice'!K:K) -> 0 | E23: =SUMIF('Summary Invoice'!$C:$C,'Draw Summary'!$C23,'Summary Invoice'!L:L) -> 0 | F23: =SUMIF('Summary Invoice'!$C:$C,'Draw Summary'!$C23,'Summary Invoice'!M:M) -> 0 | G23: =SUMIF('Summary Invoice'!$C:$C,'Draw Summary'!$C23,'Summary Invoice'!N:N) -> 0 | H23: =SUMIF('Summary Invoice'!$C:$C,'Draw Summary'!$C23,'Summary Invoice'!O:O) -> 0 | I23: =SUMIF('Summary Invoice'!$C:$C,'Draw Summary'!$C23,'Summary Invoice'!P:P) -> 0 | J23: =SUMIF('Summary Invoice'!$C:$C,'Draw Summary'!$C23,'Summary Invoice'!Q:Q) -> 0 | K23: =SUMIF('Summary Invoice'!$C:$C,'Draw Summary'!$C23,'Summary Invoice'!R:R) -> 0 | L23: =SUMIF('Summary Invoice'!$C:$C,'Draw Summary'!$C23,'Summary Invoice'!S:S) -> 0 | M23: =SUMIF('Summary Invoice'!$C:$C,'Draw Summary'!$C23,'Summary Invoice'!T:T) -> 0 | N23: =SUMIF('Summary Invoice'!$C:$C,'Draw Summary'!$C23,'Summary Invoice'!U:U) -> 0 | O23: =SUMIF('Summary Invoice'!$C:$C,'Draw Summary'!$C23,'Summary Invoice'!V:V) -> 0 | P23: =SUMIF('Summary Invoice'!$C:$C,'Draw Summary'!$C23,'Summary Invoice'!W:W) -> 0 | Q23: =SUMIF('Summary Invoice'!$C:$C,'Draw Summary'!$C23,'Summary Invoice'!X:X) -> 0 | R23: =SUMIF('Summary Invoice'!$C:$C,'Draw Summary'!$C23,'Summary Invoice'!Y:Y) -> 0 | S23: =SUMIF('Summary Invoice'!$C:$C,'Draw Summary'!$C23,'Summary Invoice'!Z:Z) -> 0 | T23: =SUMIF('Summary Invoice'!$C:$C,'Draw Summary'!$C23,'Summary Invoice'!AA:AA) -> 0 | U23: =SUMIF('Summary Invoice'!$C:$C,'Draw Summary'!$C23,'Summary Invoice'!AB:AB) -> 0 | V23: =SUMIF('Summary Invoice'!$C:$C,'Draw Summary'!$C23,'Summary Invoice'!AC:AC) -> 0 | W23: =SUMIF('Summary Invoice'!$C:$C,'Draw Summary'!$C23,'Summary Invoice'!AD:AD) -> 0 | X23: =SUMIF('Summary Invoice'!$C:$C,'Draw Summary'!$C23,'Summary Invoice'!AE:AE) -> 0 | Y23: =SUMIF('Summary Invoice'!$C:$C,'Draw Summary'!$C23,'Summary Invoice'!AF:AF) -> 0 | Z23: =SUM(D23:Y23) -> 0
C24: Draw #4 | D24: =SUMIF('Summary Invoice'!$C:$C,'Draw Summary'!$C24,'Summary Invoice'!K:K) -> 0 | E24: =SUMIF('Summary Invoice'!$C:$C,'Draw Summary'!$C24,'Summary Invoice'!L:L) -> 0 | F24: =SUMIF('Summary Invoice'!$C:$C,'Draw Summary'!$C24,'Summary Invoice'!M:M) -> 0 | G24: =SUMIF('Summary Invoice'!$C:$C,'Draw Summary'!$C24,'Summary Invoice'!N:N) -> 0 | H24: =SUMIF('Summary Invoice'!$C:$C,'Draw Summary'!$C24,'Summary Invoice'!O:O) -> 0 | I24: =SUMIF('Summary Invoice'!$C:$C,'Draw Summary'!$C24,'Summary Invoice'!P:P) -> 0 | J24: =SUMIF('Summary Invoice'!$C:$C,'Draw Summary'!$C24,'Summary Invoice'!Q:Q) -> 0 | K24: =SUMIF('Summary Invoice'!$C:$C,'Draw Summary'!$C24,'Summary Invoice'!R:R) -> 0 | L24: =SUMIF('Summary Invoice'!$C:$C,'Draw Summary'!$C24,'Summary Invoice'!S:S) -> 0 | M24: =SUMIF('Summary Invoice'!$C:$C,'Draw Summary'!$C24,'Summary Invoice'!T:T) -> 0 | N24: =SUMIF('Summary Invoice'!$C:$C,'Draw Summary'!$C24,'Summary Invoice'!U:U) -> 0 | O24: =SUMIF('Summary Invoice'!$C:$C,'Draw Summary'!$C24,'Summary Invoice'!V:V) -> 0 | P24: =SUMIF('Summary Invoice'!$C:$C,'Draw Summary'!$C24,'Summary Invoice'!W:W) -> 0 | Q24: =SUMIF('Summary Invoice'!$C:$C,'Draw Summary'!$C24,'Summary Invoice'!X:X) -> 0 | R24: =SUMIF('Summary Invoice'!$C:$C,'Draw Summary'!$C24,'Summary Invoice'!Y:Y) -> 0 | S24: =SUMIF('Summary Invoice'!$C:$C,'Draw Summary'!$C24,'Summary Invoice'!Z:Z) -> 0 | T24: =SUMIF('Summary Invoice'!$C:$C,'Draw Summary'!$C24,'Summary Invoice'!AA:AA) -> 0 | U24: =SUMIF('Summary Invoice'!$C:$C,'Draw Summary'!$C24,'Summary Invoice'!AB:AB) -> 0 | V24: =SUMIF('Summary Invoice'!$C:$C,'Draw Summary'!$C24,'Summary Invoice'!AC:AC) -> 0 | W24: =SUMIF('Summary Invoice'!$C:$C,'Draw Summary'!$C24,'Summary Invoice'!AD:AD) -> 0 | X24: =SUMIF('Summary Invoice'!$C:$C,'Draw Summary'!$C24,'Summary Invoice'!AE:AE) -> 0 | Y24: =SUMIF('Summary Invoice'!$C:$C,'Draw Summary'!$C24,'Summary Invoice'!AF:AF) -> 0 | Z24: =SUM(D24:Y24) -> 0
C25: Draw #5 | D25: =SUMIF('Summary Invoice'!$C:$C,'Draw Summary'!$C25,'Summary Invoice'!K:K) -> 0 | E25: =SUMIF('Summary Invoice'!$C:$C,'Draw Summary'!$C25,'Summary Invoice'!L:L) -> 0 | F25: =SUMIF('Summary Invoice'!$C:$C,'Draw Summary'!$C25,'Summary Invoice'!M:M) -> 0 | G25: =SUMIF('Summary Invoice'!$C:$C,'Draw Summary'!$C25,'Summary Invoice'!N:N) -> 0 | H25: =SUMIF('Summary Invoice'!$C:$C,'Draw Summary'!$C25,'Summary Invoice'!O:O) -> 0 | I25: =SUMIF('Summary Invoice'!$C:$C,'Draw Summary'!$C25,'Summary Invoice'!P:P) -> 0 | J25: =SUMIF('Summary Invoice'!$C:$C,'Draw Summary'!$C25,'Summary Invoice'!Q:Q) -> 0 | K25: =SUMIF('Summary Invoice'!$C:$C,'Draw Summary'!$C25,'Summary Invoice'!R:R) -> 0 | L25: =SUMIF('Summary Invoice'!$C:$C,'Draw Summary'!$C25,'Summary Invoice'!S:S) -> 0 | M25: =SUMIF('Summary Invoice'!$C:$C,'Draw Summary'!$C25,'Summary Invoice'!T:T) -> 0 | N25: =SUMIF('Summary Invoice'!$C:$C,'Draw Summary'!$C25,'Summary Invoice'!U:U) -> 0 | O25: =SUMIF('Summary Invoice'!$C:$C,'Draw Summary'!$C25,'Summary Invoice'!V:V) -> 0 | P25: =SUMIF('Summary Invoice'!$C:$C,'Draw Summary'!$C25,'Summary Invoice'!W:W) -> 0 | Q25: =SUMIF('Summary Invoice'!$C:$C,'Draw Summary'!$C25,'Summary Invoice'!X:X) -> 0 | R25: =SUMIF('Summary Invoice'!$C:$C,'Draw Summary'!$C25,'Summary Invoice'!Y:Y) -> 0 | S25: =SUMIF('Summary Invoice'!$C:$C,'Draw Summary'!$C25,'Summary Invoice'!Z:Z) -> 0 | T25: =SUMIF('Summary Invoice'!$C:$C,'Draw Summary'!$C25,'Summary Invoice'!AA:AA) -> 0 | U25: =SUMIF('Summary Invoice'!$C:$C,'Draw Summary'!$C25,'Summary Invoice'!AB:AB) -> 0 | V25: =SUMIF('Summary Invoice'!$C:$C,'Draw Summary'!$C25,'Summary Invoice'!AC:AC) -> 0 | W25: =SUMIF('Summary Invoice'!$C:$C,'Draw Summary'!$C25,'Summary Invoice'!AD:AD) -> 0 | X25: =SUMIF('Summary Invoice'!$C:$C,'Draw Summary'!$C25,'Summary Invoice'!AE:AE) -> 0 | Y25: =SUMIF('Summary Invoice'!$C:$C,'Draw Summary'!$C25,'Summary Invoice'!AF:AF) -> 0 | Z25: =SUM(D25:Y25) -> 0
C26: Draw #6 | D26: =SUMIF('Summary Invoice'!$C:$C,'Draw Summary'!$C26,'Summary Invoice'!K:K) -> 0 | E26: =SUMIF('Summary Invoice'!$C:$C,'Draw Summary'!$C26,'Summary Invoice'!L:L) -> 0 | F26: =SUMIF('Summary Invoice'!$C:$C,'Draw Summary'!$C26,'Summary Invoice'!M:M) -> 0 | G26: =SUMIF('Summary Invoice'!$C:$C,'Draw Summary'!$C26,'Summary Invoice'!N:N) -> 0 | H26: =SUMIF('Summary Invoice'!$C:$C,'Draw Summary'!$C26,'Summary Invoice'!O:O) -> 0 | I26: =SUMIF('Summary Invoice'!$C:$C,'Draw Summary'!$C26,'Summary Invoice'!P:P) -> 0 | J26: =SUMIF('Summary Invoice'!$C:$C,'Draw Summary'!$C26,'Summary Invoice'!Q:Q) -> 0 | K26: =SUMIF('Summary Invoice'!$C:$C,'Draw Summary'!$C26,'Summary Invoice'!R:R) -> 0 | L26: =SUMIF('Summary Invoice'!$C:$C,'Draw Summary'!$C26,'Summary Invoice'!S:S) -> 0 | M26: =SUMIF('Summary Invoice'!$C:$C,'Draw Summary'!$C26,'Summary Invoice'!T:T) -> 0 | N26: =SUMIF('Summary Invoice'!$C:$C,'Draw Summary'!$C26,'Summary Invoice'!U:U) -> 0 | O26: =SUMIF('Summary Invoice'!$C:$C,'Draw Summary'!$C26,'Summary Invoice'!V:V) -> 0 | P26: =SUMIF('Summary Invoice'!$C:$C,'Draw Summary'!$C26,'Summary Invoice'!W:W) -> 0 | Q26: =SUMIF('Summary Invoice'!$C:$C,'Draw Summary'!$C26,'Summary Invoice'!X:X) -> 0 | R26: =SUMIF('Summary Invoice'!$C:$C,'Draw Summary'!$C26,'Summary Invoice'!Y:Y) -> 0 | S26: =SUMIF('Summary Invoice'!$C:$C,'Draw Summary'!$C26,'Summary Invoice'!Z:Z) -> 0 | T26: =SUMIF('Summary Invoice'!$C:$C,'Draw Summary'!$C26,'Summary Invoice'!AA:AA) -> 0 | U26: =SUMIF('Summary Invoice'!$C:$C,'Draw Summary'!$C26,'Summary Invoice'!AB:AB) -> 0 | V26: =SUMIF('Summary Invoice'!$C:$C,'Draw Summary'!$C26,'Summary Invoice'!AC:AC) -> 0 | W26: =SUMIF('Summary Invoice'!$C:$C,'Draw Summary'!$C26,'Summary Invoice'!AD:AD) -> 0 | X26: =SUMIF('Summary Invoice'!$C:$C,'Draw Summary'!$C26,'Summary Invoice'!AE:AE) -> 0 | Y26: =SUMIF('Summary Invoice'!$C:$C,'Draw Summary'!$C26,'Summary Invoice'!AF:AF) -> 0 | Z26: =SUM(D26:Y26) -> 0
C27: Total Draws to Date | D27: =SUM(D21:D26) -> 0 | E27: =SUM(E21:E26) -> 0 | F27: =SUM(F21:F26) -> 0 | G27: =SUM(G21:G26) -> 0 | H27: =SUM(H21:H26) -> 0 | I27: =SUM(I21:I26) -> 0 | J27: =SUM(J21:J26) -> 0 | K27: =SUM(K21:K26) -> 0 | ... Y27: =SUM(Y21:Y26) -> 0 | Z27: =SUM(D27:Y27) -> 0
C28: Check | D28: =D27-SUM('Summary Invoice'!K:K) -> 0 | E28: =E27-SUM('Summary Invoice'!L:L) -> 0 | F28: =F27-SUM('Summary Invoice'!M:M) -> 0 | G28: =G27-SUM('Summary Invoice'!N:N) -> 0 | H28: =H27-SUM('Summary Invoice'!O:O) -> 0 | I28: =I27-SUM('Summary Invoice'!P:P) -> 0 | J28: =J27-SUM('Summary Invoice'!Q:Q) -> 0 | K28: =K27-SUM('Summary Invoice'!R:R) -> 0 | L28: =L27-SUM('Summary Invoice'!S:S) -> 0 | M28: =M27-SUM('Summary Invoice'!T:T) -> 0 | N28: =N27-SUM('Summary Invoice'!U:U) -> 0 | O28: =O27-SUM('Summary Invoice'!V:V) -> 0 | P28: =P27-SUM('Summary Invoice'!W:W) -> 0 | Q28: =Q27-SUM('Summary Invoice'!X:X) -> 0 | R28: =R27-SUM('Summary Invoice'!Y:Y) -> 0 | S28: =S27-SUM('Summary Invoice'!Z:Z) -> 0 | T28: =T27-SUM('Summary Invoice'!AA:AA) -> 0 | U28: =U27-SUM('Summary Invoice'!AB:AB) -> 0 | V28: =V27-SUM('Summary Invoice'!AC:AC) -> 0 | W28: =W27-SUM('Summary Invoice'!AD:AD) -> 0 | X28: =X27-SUM('Summary Invoice'!AE:AE) -> 0 | Y28: =Y27-SUM('Summary Invoice'!AF:AF) -> 0
C30: Internal Time Reporting Tab
C31: Category | D31: Conduit | E31: Fiber | F31: Customer Drops | G31: Engineering | H31: Construction Management | I31: Tower | J31: Antenna/Radio | K31: Boring | L31: Trenching | M31: Knifing | N31: Splicing | O31: Switching Equipment | P31: Routing Equipment | Q31: Optical Equipment | R31: Customer Premise Equipment | S31: Pedestals, Handholes, Cabinets, etc | T31: Utility Poles, Pole Attachments | U31: Satellite Deployment | V31: Satellite Build Cost | W31: Terrestrial Aggregation | X31: NEPA/SHPO/Cybersecurity/Other BEAD Compliance | Y31: Other | Z31: Total Draw
C32: Code | D32: DC1 | E32: DC2 | F32: DC18 | G32: DC3 | H32: DC5 | I32: DC6 | J32: DC7 | K32: DC8 | L32: DC9 | M32: DC10 | N32: DC19 | O32: DC13 | P32: DC14 | Q32: DC15 | R32: DC16 | S32: DC20 | T32: DC21 | U32: DC22 | V32: DC23 | W32: DC24 | X32: DC25 | Y32: DC17
C33: Draw #1 | D33: =SUMIF('Internal Time Reporting'!$C:$C,'Draw Summary'!$C33,'Internal Time Reporting'!N:N) -> 0 | E33: =SUMIF('Internal Time Reporting'!$C:$C,'Draw Summary'!$C33,'Internal Time Reporting'!O:O) -> 0 | F33: =SUMIF('Internal Time Reporting'!$C:$C,'Draw Summary'!$C33,'Internal Time Reporting'!P:P) -> 0 | G33: =SUMIF('Internal Time Reporting'!$C:$C,'Draw Summary'!$C33,'Internal Time Reporting'!Q:Q) -> 0 | H33: =SUMIF('Internal Time Reporting'!$C:$C,'Draw Summary'!$C33,'Internal Time Reporting'!R:R) -> 0 | I33: =SUMIF('Internal Time Reporting'!$C:$C,'Draw Summary'!$C33,'Internal Time Reporting'!S:S) -> 0 | J33: =SUMIF('Internal Time Reporting'!$C:$C,'Draw Summary'!$C33,'Internal Time Reporting'!T:T) -> 0 | K33: =SUMIF('Internal Time Reporting'!$C:$C,'Draw Summary'!$C33,'Internal Time Reporting'!U:U) -> 0 | L33: =SUMIF('Internal Time Reporting'!$C:$C,'Draw Summary'!$C33,'Internal Time Reporting'!V:V) -> 0 | M33: =SUMIF('Internal Time Reporting'!$C:$C,'Draw Summary'!$C33,'Internal Time Reporting'!W:W) -> 0 | N33: =SUMIF('Internal Time Reporting'!$C:$C,'Draw Summary'!$C33,'Internal Time Reporting'!X:X) -> 0 | O33: =SUMIF('Internal Time Reporting'!$C:$C,'Draw Summary'!$C33,'Internal Time Reporting'!Y:Y) -> 0 | P33: =SUMIF('Internal Time Reporting'!$C:$C,'Draw Summary'!$C33,'Internal Time Reporting'!Z:Z) -> 0 | Q33: =SUMIF('Internal Time Reporting'!$C:$C,'Draw Summary'!$C33,'Internal Time Reporting'!AA:AA) -> 0 | R33: =SUMIF('Internal Time Reporting'!$C:$C,'Draw Summary'!$C33,'Internal Time Reporting'!AB:AB) -> 0 | S33: =SUMIF('Internal Time Reporting'!$C:$C,'Draw Summary'!$C33,'Internal Time Reporting'!AC:AC) -> 0 | T33: =SUMIF('Internal Time Reporting'!$C:$C,'Draw Summary'!$C33,'Internal Time Reporting'!AD:AD) -> 0 | U33: =SUMIF('Internal Time Reporting'!$C:$C,'Draw Summary'!$C33,'Internal Time Reporting'!AE:AE) -> 0 | V33: =SUMIF('Internal Time Reporting'!$C:$C,'Draw Summary'!$C33,'Internal Time Reporting'!AF:AF) -> 0 | W33: =SUMIF('Internal Time Reporting'!$C:$C,'Draw Summary'!$C33,'Internal Time Reporting'!AG:AG) -> 0 | X33: =SUMIF('Internal Time Reporting'!$C:$C,'Draw Summary'!$C33,'Internal Time Reporting'!AH:AH) -> 0 | Y33: =SUMIF('Internal Time Reporting'!$C:$C,'Draw Summary'!$C33,'Internal Time Reporting'!AI:AI) -> 0 | Z33: =SUM(D33:Y33) -> 0
C34: Draw #2 | D34: =SUMIF('Internal Time Reporting'!$C:$C,'Draw Summary'!$C34,'Internal Time Reporting'!N:N) -> 0 | E34: =SUMIF('Internal Time Reporting'!$C:$C,'Draw Summary'!$C34,'Internal Time Reporting'!O:O) -> 0 | F34: =SUMIF('Internal Time Reporting'!$C:$C,'Draw Summary'!$C34,'Internal Time Reporting'!P:P) -> 0 | G34: =SUMIF('Internal Time Reporting'!$C:$C,'Draw Summary'!$C34,'Internal Time Reporting'!Q:Q) -> 0 | H34: =SUMIF('Internal Time Reporting'!$C:$C,'Draw Summary'!$C34,'Internal Time Reporting'!R:R) -> 0 | I34: =SUMIF('Internal Time Reporting'!$C:$C,'Draw Summary'!$C34,'Internal Time Reporting'!S:S) -> 0 | J34: =SUMIF('Internal Time Reporting'!$C:$C,'Draw Summary'!$C34,'Internal Time Reporting'!T:T) -> 0 | K34: =SUMIF('Internal Time Reporting'!$C:$C,'Draw Summary'!$C34,'Internal Time Reporting'!U:U) -> 0 | L34: =SUMIF('Internal Time Reporting'!$C:$C,'Draw Summary'!$C34,'Internal Time Reporting'!V:V) -> 0 | M34: =SUMIF('Internal Time Reporting'!$C:$C,'Draw Summary'!$C34,'Internal Time Reporting'!W:W) -> 0 | N34: =SUMIF('Internal Time Reporting'!$C:$C,'Draw Summary'!$C34,'Internal Time Reporting'!X:X) -> 0 | O34: =SUMIF('Internal Time Reporting'!$C:$C,'Draw Summary'!$C34,'Internal Time Reporting'!Y:Y) -> 0 | P34: =SUMIF('Internal Time Reporting'!$C:$C,'Draw Summary'!$C34,'Internal Time Reporting'!Z:Z) -> 0 | Q34: =SUMIF('Internal Time Reporting'!$C:$C,'Draw Summary'!$C34,'Internal Time Reporting'!AA:AA) -> 0 | R34: =SUMIF('Internal Time Reporting'!$C:$C,'Draw Summary'!$C34,'Internal Time Reporting'!AB:AB) -> 0 | S34: =SUMIF('Internal Time Reporting'!$C:$C,'Draw Summary'!$C34,'Internal Time Reporting'!AC:AC) -> 0 | T34: =SUMIF('Internal Time Reporting'!$C:$C,'Draw Summary'!$C34,'Internal Time Reporting'!AD:AD) -> 0 | U34: =SUMIF('Internal Time Reporting'!$C:$C,'Draw Summary'!$C34,'Internal Time Reporting'!AE:AE) -> 0 | V34: =SUMIF('Internal Time Reporting'!$C:$C,'Draw Summary'!$C34,'Internal Time Reporting'!AF:AF) -> 0 | W34: =SUMIF('Internal Time Reporting'!$C:$C,'Draw Summary'!$C34,'Internal Time Reporting'!AG:AG) -> 0 | X34: =SUMIF('Internal Time Reporting'!$C:$C,'Draw Summary'!$C34,'Internal Time Reporting'!AH:AH) -> 0 | Y34: =SUMIF('Internal Time Reporting'!$C:$C,'Draw Summary'!$C34,'Internal Time Reporting'!AI:AI) -> 0 | Z34: =SUM(D34:Y34) -> 0
C35: Draw #3 | D35: =SUMIF('Internal Time Reporting'!$C:$C,'Draw Summary'!$C35,'Internal Time Reporting'!N:N) -> 0 | E35: =SUMIF('Internal Time Reporting'!$C:$C,'Draw Summary'!$C35,'Internal Time Reporting'!O:O) -> 0 | F35: =SUMIF('Internal Time Reporting'!$C:$C,'Draw Summary'!$C35,'Internal Time Reporting'!P:P) -> 0 | G35: =SUMIF('Internal Time Reporting'!$C:$C,'Draw Summary'!$C35,'Internal Time Reporting'!Q:Q) -> 0 | H35: =SUMIF('Internal Time Reporting'!$C:$C,'Draw Summary'!$C35,'Internal Time Reporting'!R:R) -> 0 | I35: =SUMIF('Internal Time Reporting'!$C:$C,'Draw Summary'!$C35,'Internal Time Reporting'!S:S) -> 0 | J35: =SUMIF('Internal Time Reporting'!$C:$C,'Draw Summary'!$C35,'Internal Time Reporting'!T:T) -> 0 | K35: =SUMIF('Internal Time Reporting'!$C:$C,'Draw Summary'!$C35,'Internal Time Reporting'!U:U) -> 0 | L35: =SUMIF('Internal Time Reporting'!$C:$C,'Draw Summary'!$C35,'Internal Time Reporting'!V:V) -> 0 | M35: =SUMIF('Internal Time Reporting'!$C:$C,'Draw Summary'!$C35,'Internal Time Reporting'!W:W) -> 0 | N35: =SUMIF('Internal Time Reporting'!$C:$C,'Draw Summary'!$C35,'Internal Time Reporting'!X:X) -> 0 | O35: =SUMIF('Internal Time Reporting'!$C:$C,'Draw Summary'!$C35,'Internal Time Reporting'!Y:Y) -> 0 | P35: =SUMIF('Internal Time Reporting'!$C:$C,'Draw Summary'!$C35,'Internal Time Reporting'!Z:Z) -> 0 | Q35: =SUMIF('Internal Time Reporting'!$C:$C,'Draw Summary'!$C35,'Internal Time Reporting'!AA:AA) -> 0 | R35: =SUMIF('Internal Time Reporting'!$C:$C,'Draw Summary'!$C35,'Internal Time Reporting'!AB:AB) -> 0 | S35: =SUMIF('Internal Time Reporting'!$C:$C,'Draw Summary'!$C35,'Internal Time Reporting'!AC:AC) -> 0 | T35: =SUMIF('Internal Time Reporting'!$C:$C,'Draw Summary'!$C35,'Internal Time Reporting'!AD:AD) -> 0 | U35: =SUMIF('Internal Time Reporting'!$C:$C,'Draw Summary'!$C35,'Internal Time Reporting'!AE:AE) -> 0 | V35: =SUMIF('Internal Time Reporting'!$C:$C,'Draw Summary'!$C35,'Internal Time Reporting'!AF:AF) -> 0 | W35: =SUMIF('Internal Time Reporting'!$C:$C,'Draw Summary'!$C35,'Internal Time Reporting'!AG:AG) -> 0 | X35: =SUMIF('Internal Time Reporting'!$C:$C,'Draw Summary'!$C35,'Internal Time Reporting'!AH:AH) -> 0 | Y35: =SUMIF('Internal Time Reporting'!$C:$C,'Draw Summary'!$C35,'Internal Time Reporting'!AI:AI) -> 0 | Z35: =SUM(D35:Y35) -> 0
C36: Draw #4 | D36: =SUMIF('Internal Time Reporting'!$C:$C,'Draw Summary'!$C36,'Internal Time Reporting'!N:N) -> 0 | E36: =SUMIF('Internal Time Reporting'!$C:$C,'Draw Summary'!$C36,'Internal Time Reporting'!O:O) -> 0 | F36: =SUMIF('Internal Time Reporting'!$C:$C,'Draw Summary'!$C36,'Internal Time Reporting'!P:P) -> 0 | G36: =SUMIF('Internal Time Reporting'!$C:$C,'Draw Summary'!$C36,'Internal Time Reporting'!Q:Q) -> 0 | H36: =SUMIF('Internal Time Reporting'!$C:$C,'Draw Summary'!$C36,'Internal Time Reporting'!R:R) -> 0 | I36: =SUMIF('Internal Time Reporting'!$C:$C,'Draw Summary'!$C36,'Internal Time Reporting'!S:S) -> 0 | J36: =SUMIF('Internal Time Reporting'!$C:$C,'Draw Summary'!$C36,'Internal Time Reporting'!T:T) -> 0 | K36: =SUMIF('Internal Time Reporting'!$C:$C,'Draw Summary'!$C36,'Internal Time Reporting'!U:U) -> 0 | L36: =SUMIF('Internal Time Reporting'!$C:$C,'Draw Summary'!$C36,'Internal Time Reporting'!V:V) -> 0 | M36: =SUMIF('Internal Time Reporting'!$C:$C,'Draw Summary'!$C36,'Internal Time Reporting'!W:W) -> 0 | N36: =SUMIF('Internal Time Reporting'!$C:$C,'Draw Summary'!$C36,'Internal Time Reporting'!X:X) -> 0 | O36: =SUMIF('Internal Time Reporting'!$C:$C,'Draw Summary'!$C36,'Internal Time Reporting'!Y:Y) -> 0 | P36: =SUMIF('Internal Time Reporting'!$C:$C,'Draw Summary'!$C36,'Internal Time Reporting'!Z:Z) -> 0 | Q36: =SUMIF('Internal Time Reporting'!$C:$C,'Draw Summary'!$C36,'Internal Time Reporting'!AA:AA) -> 0 | R36: =SUMIF('Internal Time Reporting'!$C:$C,'Draw Summary'!$C36,'Internal Time Reporting'!AB:AB) -> 0 | S36: =SUMIF('Internal Time Reporting'!$C:$C,'Draw Summary'!$C36,'Internal Time Reporting'!AC:AC) -> 0 | T36: =SUMIF('Internal Time Reporting'!$C:$C,'Draw Summary'!$C36,'Internal Time Reporting'!AD:AD) -> 0 | U36: =SUMIF('Internal Time Reporting'!$C:$C,'Draw Summary'!$C36,'Internal Time Reporting'!AE:AE) -> 0 | V36: =SUMIF('Internal Time Reporting'!$C:$C,'Draw Summary'!$C36,'Internal Time Reporting'!AF:AF) -> 0 | W36: =SUMIF('Internal Time Reporting'!$C:$C,'Draw Summary'!$C36,'Internal Time Reporting'!AG:AG) -> 0 | X36: =SUMIF('Internal Time Reporting'!$C:$C,'Draw Summary'!$C36,'Internal Time Reporting'!AH:AH) -> 0 | Y36: =SUMIF('Internal Time Reporting'!$C:$C,'Draw Summary'!$C36,'Internal Time Reporting'!AI:AI) -> 0 | Z36: =SUM(D36:Y36) -> 0
C37: Draw #5 | D37: =SUMIF('Internal Time Reporting'!$C:$C,'Draw Summary'!$C37,'Internal Time Reporting'!N:N) -> 0 | E37: =SUMIF('Internal Time Reporting'!$C:$C,'Draw Summary'!$C37,'Internal Time Reporting'!O:O) -> 0 | F37: =SUMIF('Internal Time Reporting'!$C:$C,'Draw Summary'!$C37,'Internal Time Reporting'!P:P) -> 0 | G37: =SUMIF('Internal Time Reporting'!$C:$C,'Draw Summary'!$C37,'Internal Time Reporting'!Q:Q) -> 0 | H37: =SUMIF('Internal Time Reporting'!$C:$C,'Draw Summary'!$C37,'Internal Time Reporting'!R:R) -> 0 | I37: =SUMIF('Internal Time Reporting'!$C:$C,'Draw Summary'!$C37,'Internal Time Reporting'!S:S) -> 0 | J37: =SUMIF('Internal Time Reporting'!$C:$C,'Draw Summary'!$C37,'Internal Time Reporting'!T:T) -> 0 | K37: =SUMIF('Internal Time Reporting'!$C:$C,'Draw Summary'!$C37,'Internal Time Reporting'!U:U) -> 0 | L37: =SUMIF('Internal Time Reporting'!$C:$C,'Draw Summary'!$C37,'Internal Time Reporting'!V:V) -> 0 | M37: =SUMIF('Internal Time Reporting'!$C:$C,'Draw Summary'!$C37,'Internal Time Reporting'!W:W) -> 0 | N37: =SUMIF('Internal Time Reporting'!$C:$C,'Draw Summary'!$C37,'Internal Time Reporting'!X:X) -> 0 | O37: =SUMIF('Internal Time Reporting'!$C:$C,'Draw Summary'!$C37,'Internal Time Reporting'!Y:Y) -> 0 | P37: =SUMIF('Internal Time Reporting'!$C:$C,'Draw Summary'!$C37,'Internal Time Reporting'!Z:Z) -> 0 | Q37: =SUMIF('Internal Time Reporting'!$C:$C,'Draw Summary'!$C37,'Internal Time Reporting'!AA:AA) -> 0 | R37: =SUMIF('Internal Time Reporting'!$C:$C,'Draw Summary'!$C37,'Internal Time Reporting'!AB:AB) -> 0 | S37: =SUMIF('Internal Time Reporting'!$C:$C,'Draw Summary'!$C37,'Internal Time Reporting'!AC:AC) -> 0 | T37: =SUMIF('Internal Time Reporting'!$C:$C,'Draw Summary'!$C37,'Internal Time Reporting'!AD:AD) -> 0 | U37: =SUMIF('Internal Time Reporting'!$C:$C,'Draw Summary'!$C37,'Internal Time Reporting'!AE:AE) -> 0 | V37: =SUMIF('Internal Time Reporting'!$C:$C,'Draw Summary'!$C37,'Internal Time Reporting'!AF:AF) -> 0 | W37: =SUMIF('Internal Time Reporting'!$C:$C,'Draw Summary'!$C37,'Internal Time Reporting'!AG:AG) -> 0 | X37: =SUMIF('Internal Time Reporting'!$C:$C,'Draw Summary'!$C37,'Internal Time Reporting'!AH:AH) -> 0 | Y37: =SUMIF('Internal Time Reporting'!$C:$C,'Draw Summary'!$C37,'Internal Time Reporting'!AI:AI) -> 0 | Z37: =SUM(D37:Y37) -> 0
C38: Draw #6 | D38: =SUMIF('Internal Time Reporting'!$C:$C,'Draw Summary'!$C38,'Internal Time Reporting'!N:N) -> 0 | E38: =SUMIF('Internal Time Reporting'!$C:$C,'Draw Summary'!$C38,'Internal Time Reporting'!O:O) -> 0 | F38: =SUMIF('Internal Time Reporting'!$C:$C,'Draw Summary'!$C38,'Internal Time Reporting'!P:P) -> 0 | G38: =SUMIF('Internal Time Reporting'!$C:$C,'Draw Summary'!$C38,'Internal Time Reporting'!Q:Q) -> 0 | H38: =SUMIF('Internal Time Reporting'!$C:$C,'Draw Summary'!$C38,'Internal Time Reporting'!R:R) -> 0 | I38: =SUMIF('Internal Time Reporting'!$C:$C,'Draw Summary'!$C38,'Internal Time Reporting'!S:S) -> 0 | J38: =SUMIF('Internal Time Reporting'!$C:$C,'Draw Summary'!$C38,'Internal Time Reporting'!T:T) -> 0 | K38: =SUMIF('Internal Time Reporting'!$C:$C,'Draw Summary'!$C38,'Internal Time Reporting'!U:U) -> 0 | L38: =SUMIF('Internal Time Reporting'!$C:$C,'Draw Summary'!$C38,'Internal Time Reporting'!V:V) -> 0 | M38: =SUMIF('Internal Time Reporting'!$C:$C,'Draw Summary'!$C38,'Internal Time Reporting'!W:W) -> 0 | N38: =SUMIF('Internal Time Reporting'!$C:$C,'Draw Summary'!$C38,'Internal Time Reporting'!X:X) -> 0 | O38: =SUMIF('Internal Time Reporting'!$C:$C,'Draw Summary'!$C38,'Internal Time Reporting'!Y:Y) -> 0 | P38: =SUMIF('Internal Time Reporting'!$C:$C,'Draw Summary'!$C38,'Internal Time Reporting'!Z:Z) -> 0 | Q38: =SUMIF('Internal Time Reporting'!$C:$C,'Draw Summary'!$C38,'Internal Time Reporting'!AA:AA) -> 0 | R38: =SUMIF('Internal Time Reporting'!$C:$C,'Draw Summary'!$C38,'Internal Time Reporting'!AB:AB) -> 0 | S38: =SUMIF('Internal Time Reporting'!$C:$C,'Draw Summary'!$C38,'Internal Time Reporting'!AC:AC) -> 0 | T38: =SUMIF('Internal Time Reporting'!$C:$C,'Draw Summary'!$C38,'Internal Time Reporting'!AD:AD) -> 0 | U38: =SUMIF('Internal Time Reporting'!$C:$C,'Draw Summary'!$C38,'Internal Time Reporting'!AE:AE) -> 0 | V38: =SUMIF('Internal Time Reporting'!$C:$C,'Draw Summary'!$C38,'Internal Time Reporting'!AF:AF) -> 0 | W38: =SUMIF('Internal Time Reporting'!$C:$C,'Draw Summary'!$C38,'Internal Time Reporting'!AG:AG) -> 0 | X38: =SUMIF('Internal Time Reporting'!$C:$C,'Draw Summary'!$C38,'Internal Time Reporting'!AH:AH) -> 0 | Y38: =SUMIF('Internal Time Reporting'!$C:$C,'Draw Summary'!$C38,'Internal Time Reporting'!AI:AI) -> 0 | Z38: =SUM(D38:Y38) -> 0
C39: Total Draws to Date | D39: =SUM(D33:D38) -> 0 | E39: =SUM(E33:E38) -> 0 | F39: =SUM(F33:F38) -> 0 | G39: =SUM(G33:G38) -> 0 | H39: =SUM(H33:H38) -> 0 | I39: =SUM(I33:I38) -> 0 | J39: =SUM(J33:J38) -> 0 | K39: =SUM(K33:K38) -> 0 | ... Y39: =SUM(Y33:Y38) -> 0 | Z39: =SUM(D39:Y39) -> 0
C40: Check | D40: =D39-SUM('Internal Time Reporting'!N:N) -> 0 | E40: =E39-SUM('Internal Time Reporting'!O:O) -> 0 | F40: =F39-SUM('Internal Time Reporting'!P:P) -> 0 | G40: =G39-SUM('Internal Time Reporting'!Q:Q) -> 0 | H40: =H39-SUM('Internal Time Reporting'!R:R) -> 0 | I40: =I39-SUM('Internal Time Reporting'!S:S) -> 0 | J40: =J39-SUM('Internal Time Reporting'!T:T) -> 0 | K40: =K39-SUM('Internal Time Reporting'!U:U) -> 0 | L40: =L39-SUM('Internal Time Reporting'!V:V) -> 0 | M40: =M39-SUM('Internal Time Reporting'!W:W) -> 0 | N40: =N39-SUM('Internal Time Reporting'!X:X) -> 0 | O40: =O39-SUM('Internal Time Reporting'!Y:Y) -> 0 | P40: =P39-SUM('Internal Time Reporting'!Z:Z) -> 0 | Q40: =Q39-SUM('Internal Time Reporting'!AA:AA) -> 0 | R40: =R39-SUM('Internal Time Reporting'!AB:AB) -> 0 | S40: =S39-SUM('Internal Time Reporting'!AC:AC) -> 0 | T40: =T39-SUM('Internal Time Reporting'!AD:AD) -> 0 | U40: =U39-SUM('Internal Time Reporting'!AE:AE) -> 0 | V40: =V39-SUM('Internal Time Reporting'!AF:AF) -> 0 | W40: =W39-SUM('Internal Time Reporting'!AG:AG) -> 0 | X40: =X39-SUM('Internal Time Reporting'!AH:AH) -> 0 | Y40: =Y39-SUM('Internal Time Reporting'!AI:AI) -> 0
C42: Aggregate Summary of Expenses Submitted
C43: Category | D43: Conduit | E43: Fiber | F43: Customer Drops | G43: Engineering | H43: Construction Management | I43: Tower | J43: Antenna/Radio | K43: Boring | L43: Trenching | M43: Knifing | N43: Splicing | O43: Switching Equipment | P43: Routing Equipment | Q43: Optical Equipment | R43: Customer Premise Equipment | S43: Pedestals, Handholes, Cabinets, etc | T43: Utility Poles, Pole Attachments | U43: Satellite Deployment | V43: Satellite Build Cost | W43: Terrestrial Aggregation | X43: NEPA/SHPO/Cybersecurity/Other BEAD Compliance | Y43: Other | Z43: Total Draw
C44: Code | D44: DC1 | E44: DC2 | F44: DC18 | G44: DC3 | H44: DC5 | I44: DC6 | J44: DC7 | K44: DC8 | L44: DC9 | M44: DC10 | N44: DC19 | O44: DC13 | P44: DC14 | Q44: DC15 | R44: DC16 | S44: DC20 | T44: DC21 | U44: DC22 | V44: DC23 | W44: DC24 | X44: DC25 | Y44: DC17
C45: Draw #1 | D45: =SUMIF('Summary Invoice'!$C:$C,'Draw Summary'!$C45,'Summary Invoice'!K:K)+SUMIF('Internal Time Reporting'!$C:$C,'Draw Summary'!$C45,'Internal Time Reporting'!N:N) -> 0 | E45: =SUMIF('Summary Invoice'!$C:$C,'Draw Summary'!$C45,'Summary Invoice'!L:L)+SUMIF('Internal Time Reporting'!$C:$C,'Draw Summary'!$C45,'Internal Time Reporting'!O:O) -> 0 | F45: =SUMIF('Summary Invoice'!$C:$C,'Draw Summary'!$C45,'Summary Invoice'!M:M)+SUMIF('Internal Time Reporting'!$C:$C,'Draw Summary'!$C45,'Internal Time Reporting'!P:P) -> 0 | G45: =SUMIF('Summary Invoice'!$C:$C,'Draw Summary'!$C45,'Summary Invoice'!N:N)+SUMIF('Internal Time Reporting'!$C:$C,'Draw Summary'!$C45,'Internal Time Reporting'!Q:Q) -> 0 | H45: =SUMIF('Summary Invoice'!$C:$C,'Draw Summary'!$C45,'Summary Invoice'!O:O)+SUMIF('Internal Time Reporting'!$C:$C,'Draw Summary'!$C45,'Internal Time Reporting'!R:R) -> 0 | I45: =SUMIF('Summary Invoice'!$C:$C,'Draw Summary'!$C45,'Summary Invoice'!P:P)+SUMIF('Internal Time Reporting'!$C:$C,'Draw Summary'!$C45,'Internal Time Reporting'!S:S) -> 0 | J45: =SUMIF('Summary Invoice'!$C:$C,'Draw Summary'!$C45,'Summary Invoice'!Q:Q)+SUMIF('Internal Time Reporting'!$C:$C,'Draw Summary'!$C45,'Internal Time Reporting'!T:T) -> 0 | K45: =SUMIF('Summary Invoice'!$C:$C,'Draw Summary'!$C45,'Summary Invoice'!R:R)+SUMIF('Internal Time Reporting'!$C:$C,'Draw Summary'!$C45,'Internal Time Reporting'!U:U) -> 0 | L45: =SUMIF('Summary Invoice'!$C:$C,'Draw Summary'!$C45,'Summary Invoice'!S:S)+SUMIF('Internal Time Reporting'!$C:$C,'Draw Summary'!$C45,'Internal Time Reporting'!V:V) -> 0 | M45: =SUMIF('Summary Invoice'!$C:$C,'Draw Summary'!$C45,'Summary Invoice'!T:T)+SUMIF('Internal Time Reporting'!$C:$C,'Draw Summary'!$C45,'Internal Time Reporting'!W:W) -> 0 | N45: =SUMIF('Summary Invoice'!$C:$C,'Draw Summary'!$C45,'Summary Invoice'!U:U)+SUMIF('Internal Time Reporting'!$C:$C,'Draw Summary'!$C45,'Internal Time Reporting'!X:X) -> 0 | O45: =SUMIF('Summary Invoice'!$C:$C,'Draw Summary'!$C45,'Summary Invoice'!V:V)+SUMIF('Internal Time Reporting'!$C:$C,'Draw Summary'!$C45,'Internal Time Reporting'!Y:Y) -> 0 | P45: =SUMIF('Summary Invoice'!$C:$C,'Draw Summary'!$C45,'Summary Invoice'!W:W)+SUMIF('Internal Time Reporting'!$C:$C,'Draw Summary'!$C45,'Internal Time Reporting'!Z:Z) -> 0 | Q45: =SUMIF('Summary Invoice'!$C:$C,'Draw Summary'!$C45,'Summary Invoice'!X:X)+SUMIF('Internal Time Reporting'!$C:$C,'Draw Summary'!$C45,'Internal Time Reporting'!AA:AA) -> 0 | R45: =SUMIF('Summary Invoice'!$C:$C,'Draw Summary'!$C45,'Summary Invoice'!Y:Y)+SUMIF('Internal Time Reporting'!$C:$C,'Draw Summary'!$C45,'Internal Time Reporting'!AB:AB) -> 0 | S45: =SUMIF('Summary Invoice'!$C:$C,'Draw Summary'!$C45,'Summary Invoice'!Z:Z)+SUMIF('Internal Time Reporting'!$C:$C,'Draw Summary'!$C45,'Internal Time Reporting'!AC:AC) -> 0 | T45: =SUMIF('Summary Invoice'!$C:$C,'Draw Summary'!$C45,'Summary Invoice'!AA:AA)+SUMIF('Internal Time Reporting'!$C:$C,'Draw Summary'!$C45,'Internal Time Reporting'!AD:AD) -> 0 | U45: =SUMIF('Summary Invoice'!$C:$C,'Draw Summary'!$C45,'Summary Invoice'!AB:AB)+SUMIF('Internal Time Reporting'!$C:$C,'Draw Summary'!$C45,'Internal Time Reporting'!AE:AE) -> 0 | V45: =SUMIF('Summary Invoice'!$C:$C,'Draw Summary'!$C45,'Summary Invoice'!AC:AC)+SUMIF('Internal Time Reporting'!$C:$C,'Draw Summary'!$C45,'Internal Time Reporting'!AF:AF) -> 0 | W45: =SUMIF('Summary Invoice'!$C:$C,'Draw Summary'!$C45,'Summary Invoice'!AD:AD)+SUMIF('Internal Time Reporting'!$C:$C,'Draw Summary'!$C45,'Internal Time Reporting'!AG:AG) -> 0 | X45: =SUMIF('Summary Invoice'!$C:$C,'Draw Summary'!$C45,'Summary Invoice'!AE:AE)+SUMIF('Internal Time Reporting'!$C:$C,'Draw Summary'!$C45,'Internal Time Reporting'!AH:AH) -> 0 | Y45: =SUMIF('Summary Invoice'!$C:$C,'Draw Summary'!$C45,'Summary Invoice'!AF:AF)+SUMIF('Internal Time Reporting'!$C:$C,'Draw Summary'!$C45,'Internal Time Reporting'!AI:AI) -> 0 | Z45: =SUM(D45:Y45) -> 0
...

Sheet Cost Breakout
C1: Cost Breakout
C3: Grant Award $$ | D3: ='Summary Invoice'!D5 -> 0
C4: Award Cost Share % | D4: ='Summary Invoice'!J3 -> 0
C5: ='Summary Invoice'!E5 -> Cumulative Maximum Claim (calculated) | D5: ='Summary Invoice'!F5 -> 0
C7: Category | D7: Code | E7: Subtotal | F7: Eligible Reimbursement | G7: Reimbursement Requested | I7: Draw #
C8: Conduit | D8: DC1 | E8: ='Draw Summary'!D51 -> 0 | F8: =ROUND(Category6[[#This Row],[Subtotal]]*$D$4,2) -> 0 | G8: =Category6[[#This Row],[Eligible Reimbursement]]/Category6[[#Totals],[Eligible Reimbursement]]*$D$5 -> #DIV/0! | I8: Draw #1
C9: Fiber | D9: DC2 | E9: ='Draw Summary'!E51 -> 0 | F9: =ROUND(Category6[[#This Row],[Subtotal]]*$D$4,2) -> 0 | G9: =Category6[[#This Row],[Eligible Reimbursement]]/Category6[[#Totals],[Eligible Reimbursement]]*$D$5 -> #DIV/0! | I9: Draw #2
C10: Customer Drops | D10: DC18 | E10: ='Draw Summary'!F51 -> 0 | F10: =ROUND(Category6[[#This Row],[Subtotal]]*$D$4,2) -> 0 | G10: =Category6[[#This Row],[Eligible Reimbursement]]/Category6[[#Totals],[Eligible Reimbursement]]*$D$5 -> #DIV/0! | I10: Draw #3
C11: Engineering | D11: DC3 | E11: ='Draw Summary'!G51 -> 0 | F11: =ROUND(Category6[[#This Row],[Subtotal]]*$D$4,2) -> 0 | G11: =Category6[[#This Row],[Eligible Reimbursement]]/Category6[[#Totals],[Eligible Reimbursement]]*$D$5 -> #DIV/0! | I11: Draw #4
C12: Construction Management | D12: DC5 | E12: ='Draw Summary'!H51 -> 0 | F12: =ROUND(Category6[[#This Row],[Subtotal]]*$D$4,2) -> 0 | G12: =Category6[[#This Row],[Eligible Reimbursement]]/Category6[[#Totals],[Eligible Reimbursement]]*$D$5 -> #DIV/0! | I12: Draw #5
C13: Tower | D13: DC6 | E13: ='Draw Summary'!I51 -> 0 | F13: =ROUND(Category6[[#This Row],[Subtotal]]*$D$4,2) -> 0 | G13: =Category6[[#This Row],[Eligible Reimbursement]]/Category6[[#Totals],[Eligible Reimbursement]]*$D$5 -> #DIV/0! | I13: Draw #6
C14: Antenna/Radio | D14: DC7 | E14: ='Draw Summary'!J51 -> 0 | F14: =ROUND(Category6[[#This Row],[Subtotal]]*$D$4,2) -> 0 | G14: =Category6[[#This Row],[Eligible Reimbursement]]/Category6[[#Totals],[Eligible Reimbursement]]*$D$5 -> #DIV/0!
C15: Boring | D15: DC8 | E15: ='Draw Summary'!K51 -> 0 | F15: =ROUND(Category6[[#This Row],[Subtotal]]*$D$4,2) -> 0 | G15: =Category6[[#This Row],[Eligible Reimbursement]]/Category6[[#Totals],[Eligible Reimbursement]]*$D$5 -> #DIV/0!
C16: Trenching | D16: DC9 | E16: ='Draw Summary'!L51 -> 0 | F16: =ROUND(Category6[[#This Row],[Subtotal]]*$D$4,2) -> 0 | G16: =Category6[[#This Row],[Eligible Reimbursement]]/Category6[[#Totals],[Eligible Reimbursement]]*$D$5 -> #DIV/0!
C17: Knifing | D17: DC10 | E17: ='Draw Summary'!M51 -> 0 | F17: =ROUND(Category6[[#This Row],[Subtotal]]*$D$4,2) -> 0 | G17: =Category6[[#This Row],[Eligible Reimbursement]]/Category6[[#Totals],[Eligible Reimbursement]]*$D$5 -> #DIV/0!
C18: Splicing | D18: DC19 | E18: ='Draw Summary'!N51 -> 0 | F18: =ROUND(Category6[[#This Row],[Subtotal]]*$D$4,2) -> 0 | G18: =Category6[[#This Row],[Eligible Reimbursement]]/Category6[[#Totals],[Eligible Reimbursement]]*$D$5 -> #DIV/0!
C19: Switching Equipment | D19: DC13 | E19: ='Draw Summary'!O51 -> 0 | F19: =ROUND(Category6[[#This Row],[Subtotal]]*$D$4,2) -> 0 | G19: =Category6[[#This Row],[Eligible Reimbursement]]/Category6[[#Totals],[Eligible Reimbursement]]*$D$5 -> #DIV/0!
C20: Routing Equipment | D20: DC14 | E20: ='Draw Summary'!P51 -> 0 | F20: =ROUND(Category6[[#This Row],[Subtotal]]*$D$4,2) -> 0 | G20: =Category6[[#This Row],[Eligible Reimbursement]]/Category6[[#Totals],[Eligible Reimbursement]]*$D$5 -> #DIV/0!
C21: Optical Equipment | D21: DC15 | E21: ='Draw Summary'!Q51 -> 0 | F21: =ROUND(Category6[[#This Row],[Subtotal]]*$D$4,2) -> 0 | G21: =Category6[[#This Row],[Eligible Reimbursement]]/Category6[[#Totals],[Eligible Reimbursement]]*$D$5 -> #DIV/0!
C22: Customer Premise Equipment | D22: DC16 | E22: ='Draw Summary'!R51 -> 0 | F22: =ROUND(Category6[[#This Row],[Subtotal]]*$D$4,2) -> 0 | G22: =Category6[[#This Row],[Eligible Reimbursement]]/Category6[[#Totals],[Eligible Reimbursement]]*$D$5 -> #DIV/0!
C23: Pedestals, Handholes, Cabinets, etc | D23: DC20 | E23: ='Draw Summary'!S51 -> 0 | F23: =ROUND(Category6[[#This Row],[Subtotal]]*$D$4,2) -> 0 | G23: =Category6[[#This Row],[Eligible Reimbursement]]/Category6[[#Totals],[Eligible Reimbursement]]*$D$5 -> #DIV/0!
C24: Utility Poles, Pole Attachments | D24: DC21 | E24: ='Draw Summary'!T51 -> 0 | F24: =ROUND(Category6[[#This Row],[Subtotal]]*$D$4,2) -> 0 | G24: =Category6[[#This Row],[Eligible Reimbursement]]/Category6[[#Totals],[Eligible Reimbursement]]*$D$5 -> #DIV/0!
C25: Satellite Deployment | D25: DC22 | E25: ='Draw Summary'!U51 -> 0 | F25: =ROUND(Category6[[#This Row],[Subtotal]]*$D$4,2) -> 0 | G25: =Category6[[#This Row],[Eligible Reimbursement]]/Category6[[#Totals],[Eligible Reimbursement]]*$D$5 -> #DIV/0!
C26: Satellite Build Cost | D26: DC23 | E26: ='Draw Summary'!V51 -> 0 | F26: =ROUND(Category6[[#This Row],[Subtotal]]*$D$4,2) -> 0 | G26: =Category6[[#This Row],[Eligible Reimbursement]]/Category6[[#Totals],[Eligible Reimbursement]]*$D$5 -> #DIV/0!
C27: Terrestrial Aggregation | D27: DC24 | E27: ='Draw Summary'!W51 -> 0 | F27: =ROUND(Category6[[#This Row],[Subtotal]]*$D$4,2) -> 0 | G27: =Category6[[#This Row],[Eligible Reimbursement]]/Category6[[#Totals],[Eligible Reimbursement]]*$D$5 -> #DIV/0!
C28: NEPA/SHPO/Cybersecurity/Other BEAD Compliance | D28: DC25 | E28: ='Draw Summary'!X51 -> 0 | F28: =ROUND(Category6[[#This Row],[Subtotal]]*$D$4,2) -> 0 | G28: =Category6[[#This Row],[Eligible Reimbursement]]/Category6[[#Totals],[Eligible Reimbursement]]*$D$5 -> #DIV/0!
C29: Other | D29: DC17 | E29: ='Draw Summary'!Y51 -> 0 | F29: =ROUND(Category6[[#This Row],[Subtotal]]*$D$4,2) -> 0 | G29: =Category6[[#This Row],[Eligible Reimbursement]]/Category6[[#Totals],[Eligible Reimbursement]]*$D$5 -> #DIV/0!
E30: =SUM(Category6[Subtotal]) -> 0 | F30: =SUM(Category6[Eligible Reimbursement]) -> 0 | G30: =SUM(Category6[Reimbursement Requested]) -> #DIV/0!
